BEGIN:VCALENDAR
VERSION:2.0
METHOD:PUBLISH
CALSCALE:GREGORIAN
BEGIN:VEVENT
UID:69737c2e-11bd-4883-be2c-78299750af25
SEQUENCE:0
CLASS:PUBLIC
PRIORITY:5
DTSTAMP:20260419T220402Z
CREATED:20260419T220402Z
DTSTART:20260120T140000Z
DTEND:20260119T090000Z
SUMMARY:Cérémonie de Claude BEAUFILS
LOCATION:850 Cours de la maison, 14800, Vauville
BEGIN:VALARM
TRIGGER:-PT30M
ACTION:DISPLAY
DESCRIPTION:Reminder
END:VALARM
END:VEVENT
END:VCALENDAR
