BEGIN:VCALENDAR
VERSION:2.0
METHOD:PUBLISH
CALSCALE:GREGORIAN
BEGIN:VEVENT
UID:8e0bcff4-c161-4311-86d2-ea23b2a53a1e
SEQUENCE:0
CLASS:PUBLIC
PRIORITY:5
DTSTAMP:20260420T081918Z
CREATED:20260420T081918Z
DTSTART:20260227T160000Z
SUMMARY:Cérémonie de Alain MOREAU
LOCATION:41300, 41300, France
BEGIN:VALARM
TRIGGER:-PT30M
ACTION:DISPLAY
DESCRIPTION:Reminder
END:VALARM
END:VEVENT
END:VCALENDAR
