BEGIN:VCALENDAR
VERSION:2.0
METHOD:PUBLISH
CALSCALE:GREGORIAN
BEGIN:VEVENT
UID:1ebae94d-1812-44a8-9811-5d9432cd0dd5
SEQUENCE:0
CLASS:PUBLIC
PRIORITY:5
DTSTAMP:20260419T173346Z
CREATED:20260419T173346Z
DTSTART:20260202T140000Z
SUMMARY:Cérémonie de Philippe BEHAGUE
LOCATION:CHATEAU DU LOIR, 72500, 72500, France
BEGIN:VALARM
TRIGGER:-PT30M
ACTION:DISPLAY
DESCRIPTION:Reminder
END:VALARM
END:VEVENT
END:VCALENDAR
