BEGIN:VCALENDAR
VERSION:2.0
METHOD:PUBLISH
CALSCALE:GREGORIAN
BEGIN:VEVENT
UID:aabc9e99-238b-4472-8d93-d538d800cbaf
SEQUENCE:0
CLASS:PUBLIC
PRIORITY:5
DTSTAMP:20260421T062652Z
CREATED:20260421T062652Z
DTSTART:20260304T100000Z
SUMMARY:Cérémonie de Françoise RICHARD
LOCATION:40 Avenue Maurice Plongeron, 51100, 51100, France
BEGIN:VALARM
TRIGGER:-PT30M
ACTION:DISPLAY
DESCRIPTION:Reminder
END:VALARM
END:VEVENT
END:VCALENDAR
