BEGIN:VCALENDAR
VERSION:2.0
METHOD:PUBLISH
CALSCALE:GREGORIAN
BEGIN:VEVENT
UID:51f2eb31-0e01-46d2-90ec-ecd99e59bd83
SEQUENCE:0
CLASS:PUBLIC
PRIORITY:5
DTSTAMP:20260421T064717Z
CREATED:20260421T064717Z
DTSTART:20260313T143000Z
SUMMARY:Cérémonie de Maurice TEXIER
LOCATION:France
BEGIN:VALARM
TRIGGER:-PT30M
ACTION:DISPLAY
DESCRIPTION:Reminder
END:VALARM
END:VEVENT
END:VCALENDAR
