BEGIN:VCALENDAR
VERSION:2.0
METHOD:PUBLISH
CALSCALE:GREGORIAN
BEGIN:VEVENT
UID:2b21f123-8fee-479c-8d15-10d212db09c9
SEQUENCE:0
CLASS:PUBLIC
PRIORITY:5
DTSTAMP:20260421T082722Z
CREATED:20260421T082722Z
DTSTART:20260417T150000Z
DTEND:20260417T154500Z
SUMMARY:Cérémonie de Berthe OLIVIER
LOCATION:27 Place de l'Eglise, 22980, Plélan-le-Petit, France
BEGIN:VALARM
TRIGGER:-PT30M
ACTION:DISPLAY
DESCRIPTION:Reminder
END:VALARM
END:VEVENT
END:VCALENDAR
