BEGIN:VCALENDAR
VERSION:2.0
METHOD:PUBLISH
CALSCALE:GREGORIAN
BEGIN:VEVENT
UID:89499dcb-f74c-4508-b71e-d77e6545b479
SEQUENCE:0
CLASS:PUBLIC
PRIORITY:5
DTSTAMP:20260420T081901Z
CREATED:20260420T081901Z
DTSTART:20260417T143000Z
DTEND:20260417T143000Z
SUMMARY:Cérémonie de Jean HITZ
LOCATION:86130, Saint-Georges-lès-Baillargeaux, France
BEGIN:VALARM
TRIGGER:-PT30M
ACTION:DISPLAY
DESCRIPTION:Reminder
END:VALARM
END:VEVENT
END:VCALENDAR
