BEGIN:VCALENDAR
VERSION:2.0
METHOD:PUBLISH
CALSCALE:GREGORIAN
BEGIN:VEVENT
UID:90b6ae57-c2c1-4d04-8690-62c855713830
SEQUENCE:0
CLASS:PUBLIC
PRIORITY:5
DTSTAMP:20260420T081918Z
CREATED:20260420T081918Z
DTSTART:20260421T100000Z
DTEND:20260421T110000Z
SUMMARY:Cérémonie de Jacques QUINTARD
LOCATION:Route de l'Eglise, 86190, Chalandray, France
BEGIN:VALARM
TRIGGER:-PT30M
ACTION:DISPLAY
DESCRIPTION:Reminder
END:VALARM
END:VEVENT
END:VCALENDAR
