BEGIN:VCALENDAR
VERSION:2.0
METHOD:PUBLISH
CALSCALE:GREGORIAN
BEGIN:VEVENT
UID:b2b19829-d414-4bba-9eee-33b576a179b9
SEQUENCE:0
CLASS:PUBLIC
PRIORITY:5
DTSTAMP:20260421T082704Z
CREATED:20260421T082704Z
DTSTART:20260123T144500Z
DTEND:20260123T144500Z
SUMMARY:Cérémonie de Walter REGIMBAL
LOCATION:41120, Le Controis-en-Sologne, France
BEGIN:VALARM
TRIGGER:-PT30M
ACTION:DISPLAY
DESCRIPTION:Reminder
END:VALARM
END:VEVENT
END:VCALENDAR
