BEGIN:VCALENDAR
VERSION:2.0
METHOD:PUBLISH
CALSCALE:GREGORIAN
BEGIN:VEVENT
UID:ceefa6c3-8b3b-4ac0-a188-2d244a63924b
SEQUENCE:0
CLASS:PUBLIC
PRIORITY:5
DTSTAMP:20260421T082722Z
CREATED:20260421T082722Z
DTSTART:20260421T103000Z
DTEND:20260421T110000Z
SUMMARY:Cérémonie de Nicole LEMOINE
LOCATION:547 rue du Château d'Eau, 37530, Chargé, France
BEGIN:VALARM
TRIGGER:-PT30M
ACTION:DISPLAY
DESCRIPTION:Reminder
END:VALARM
END:VEVENT
END:VCALENDAR
