BEGIN:VCALENDAR
VERSION:2.0
METHOD:PUBLISH
CALSCALE:GREGORIAN
BEGIN:VEVENT
UID:59740c9a-9993-42b6-be56-8e61b2a6894f
SEQUENCE:0
CLASS:PUBLIC
PRIORITY:5
DTSTAMP:20260422T102053Z
CREATED:20260422T102053Z
DTSTART:20260421T100000Z
DTEND:20260421T100000Z
SUMMARY:Cérémonie de Isabelle GUÉRIN
LOCATION:53200, Château-Gontier-sur-Mayenne, France
BEGIN:VALARM
TRIGGER:-PT30M
ACTION:DISPLAY
DESCRIPTION:Reminder
END:VALARM
END:VEVENT
END:VCALENDAR
