BEGIN:VCALENDAR
VERSION:2.0
METHOD:PUBLISH
CALSCALE:GREGORIAN
BEGIN:VEVENT
UID:209a457d-4a44-4e80-bec5-bee194aa21da
SEQUENCE:0
CLASS:PUBLIC
PRIORITY:5
DTSTAMP:20260421T095033Z
CREATED:20260421T095033Z
DTSTART:20260422T140000Z
SUMMARY:Église Lalande-de-Pomerol de Marie-Claude CANDELA
LOCATION:33500, Lalande-de-Pomerol
BEGIN:VALARM
TRIGGER:-PT30M
ACTION:DISPLAY
DESCRIPTION:Reminder
END:VALARM
END:VEVENT
END:VCALENDAR
