BEGIN:VCALENDAR
VERSION:2.0
METHOD:PUBLISH
CALSCALE:GREGORIAN
BEGIN:VEVENT
UID:06c3bcb2-a585-4b88-b2da-1640b0960d79
SEQUENCE:0
CLASS:PUBLIC
PRIORITY:5
DTSTAMP:20260421T095017Z
CREATED:20260421T095017Z
DTSTART:20260422T103000Z
DTEND:20260422T103000Z
SUMMARY:Cérémonie de Nicolas SÉGUIN
LOCATION:1 blv de la 1ème Division Française Libre, 72190, Coulaines, France
BEGIN:VALARM
TRIGGER:-PT30M
ACTION:DISPLAY
DESCRIPTION:Reminder
END:VALARM
END:VEVENT
END:VCALENDAR
