BEGIN:VCALENDAR
VERSION:2.0
METHOD:PUBLISH
CALSCALE:GREGORIAN
BEGIN:VEVENT
UID:b8e13e44-5776-4d86-b81c-e9cc3836092b
SEQUENCE:0
CLASS:PUBLIC
PRIORITY:5
DTSTAMP:20260419T141035Z
CREATED:20260419T141035Z
DTSTART:20260422T143000Z
DTEND:20260422T153000Z
SUMMARY:Cérémonie de Raymond NAIL
LOCATION:Saint Fort (53200), France
BEGIN:VALARM
TRIGGER:-PT30M
ACTION:DISPLAY
DESCRIPTION:Reminder
END:VALARM
END:VEVENT
END:VCALENDAR
