BEGIN:VCALENDAR
VERSION:2.0
METHOD:PUBLISH
CALSCALE:GREGORIAN
BEGIN:VEVENT
UID:67ca3d7b-cab5-4c6e-978e-24b7abb1be6c
SEQUENCE:0
CLASS:PUBLIC
PRIORITY:5
DTSTAMP:20260419T143712Z
CREATED:20260419T143712Z
DTSTART:20260424T143000Z
DTEND:20260424T143000Z
SUMMARY:Cérémonie de Marylène BRANSIECQ
LOCATION:5 Rue du Docteur Landes, 08190, Asfeld, France
BEGIN:VALARM
TRIGGER:-PT30M
ACTION:DISPLAY
DESCRIPTION:Reminder
END:VALARM
END:VEVENT
END:VCALENDAR
