BEGIN:VCALENDAR
VERSION:2.0
METHOD:PUBLISH
CALSCALE:GREGORIAN
BEGIN:VEVENT
UID:d9486749-8214-4949-87e8-3c63d2a4a1de
SEQUENCE:0
CLASS:PUBLIC
PRIORITY:5
DTSTAMP:20260419T141007Z
CREATED:20260419T141007Z
DTSTART:20260422T143000Z
DTEND:20260422T143000Z
SUMMARY:Cérémonie de Michel HAMON
LOCATION:22980, Saint-Michel-de-Plélan, France
BEGIN:VALARM
TRIGGER:-PT30M
ACTION:DISPLAY
DESCRIPTION:Reminder
END:VALARM
END:VEVENT
END:VCALENDAR
