BEGIN:VCALENDAR
VERSION:2.0
METHOD:PUBLISH
CALSCALE:GREGORIAN
BEGIN:VEVENT
UID:89ad3ee1-c502-4b42-aa70-14187103c3f4
SEQUENCE:0
CLASS:PUBLIC
PRIORITY:5
DTSTAMP:20260419T172903Z
CREATED:20260419T172903Z
DTSTART:20260422T100000Z
DTEND:20260422T100000Z
SUMMARY:Cérémonie de Jean-Marie BEAUDUCEL
LOCATION:53200, Chemazé, France
BEGIN:VALARM
TRIGGER:-PT30M
ACTION:DISPLAY
DESCRIPTION:Reminder
END:VALARM
END:VEVENT
END:VCALENDAR
