BEGIN:VCALENDAR
VERSION:2.0
METHOD:PUBLISH
CALSCALE:GREGORIAN
BEGIN:VEVENT
UID:9bb970e6-1c5e-46ae-986e-ce6fbf4f4c15
SEQUENCE:0
CLASS:PUBLIC
PRIORITY:5
DTSTAMP:20260419T172902Z
CREATED:20260419T172902Z
DTSTART:20260427T150000Z
DTEND:20260427T150000Z
SUMMARY:Cérémonie de Pierre GAUMER
LOCATION:15 Chemin de l'Abbaye d'Ardennes, 02 31 73 34 34  caen@crematoriums.fr, 14000, Caen, France
BEGIN:VALARM
TRIGGER:-PT30M
ACTION:DISPLAY
DESCRIPTION:Reminder
END:VALARM
END:VEVENT
END:VCALENDAR
