BEGIN:VCALENDAR
VERSION:2.0
METHOD:PUBLISH
CALSCALE:GREGORIAN
BEGIN:VEVENT
UID:9e9f1232-8af4-46c6-8ceb-14bc3e29e5ed
SEQUENCE:0
CLASS:PUBLIC
PRIORITY:5
DTSTAMP:20260419T172923Z
CREATED:20260419T172923Z
DTSTART:20260424T143000Z
DTEND:20260424T143000Z
SUMMARY:Cérémonie de Jean-Claude DALLET
LOCATION:61160, Gouffern en Auge, France
BEGIN:VALARM
TRIGGER:-PT30M
ACTION:DISPLAY
DESCRIPTION:Reminder
END:VALARM
END:VEVENT
END:VCALENDAR
