BEGIN:VCALENDAR
VERSION:2.0
METHOD:PUBLISH
CALSCALE:GREGORIAN
BEGIN:VEVENT
UID:7c97fec4-866a-4aca-b6ce-2084bebe612e
SEQUENCE:0
CLASS:PUBLIC
PRIORITY:5
DTSTAMP:20260419T172903Z
CREATED:20260419T172903Z
DTSTART:20260423T103000Z
DTEND:20260423T103000Z
SUMMARY:Cérémonie de Denise HÉRAN
LOCATION:Place du Mail, 72220, Saint-Gervais-en-Belin, France
BEGIN:VALARM
TRIGGER:-PT30M
ACTION:DISPLAY
DESCRIPTION:Reminder
END:VALARM
END:VEVENT
END:VCALENDAR
