BEGIN:VCALENDAR
VERSION:2.0
METHOD:PUBLISH
CALSCALE:GREGORIAN
BEGIN:VEVENT
UID:f0e6d91d-dc98-497d-aab4-a64d3c3ed2af
SEQUENCE:0
CLASS:PUBLIC
PRIORITY:5
DTSTAMP:20260419T182532Z
CREATED:20260419T182532Z
DTSTART:20260427T093000Z
DTEND:20260427T100000Z
SUMMARY:Cérémonie de Gilbert GARNIER
LOCATION:Rue de la Petite Madeleine, 61500, Sées, France
BEGIN:VALARM
TRIGGER:-PT30M
ACTION:DISPLAY
DESCRIPTION:Reminder
END:VALARM
END:VEVENT
END:VCALENDAR
