BEGIN:VCALENDAR
VERSION:2.0
METHOD:PUBLISH
CALSCALE:GREGORIAN
BEGIN:VEVENT
UID:aed0088c-ffb4-41a7-9e7f-e87bab2602b8
SEQUENCE:0
CLASS:PUBLIC
PRIORITY:5
DTSTAMP:20260419T205605Z
CREATED:20260419T205605Z
DTSTART:20260423T143000Z
DTEND:20260423T143000Z
SUMMARY:Cérémonie de Marie-Josephe LECROC
LOCATION:72610, Fyé, France
BEGIN:VALARM
TRIGGER:-PT30M
ACTION:DISPLAY
DESCRIPTION:Reminder
END:VALARM
END:VEVENT
END:VCALENDAR
