BEGIN:VCALENDAR
VERSION:2.0
METHOD:PUBLISH
CALSCALE:GREGORIAN
BEGIN:VEVENT
UID:aa560574-e815-42b8-b8fa-c5e586b57f40
SEQUENCE:0
CLASS:PUBLIC
PRIORITY:5
DTSTAMP:20260421T121317Z
CREATED:20260421T121317Z
DTSTART:20260423T100000Z
DTEND:20260423T100000Z
SUMMARY:Cérémonie de Jean CASSIN
LOCATION:61160, Montabard, France
BEGIN:VALARM
TRIGGER:-PT30M
ACTION:DISPLAY
DESCRIPTION:Reminder
END:VALARM
END:VEVENT
END:VCALENDAR
