BEGIN:VCALENDAR
VERSION:2.0
METHOD:PUBLISH
CALSCALE:GREGORIAN
BEGIN:VEVENT
UID:47f83685-9315-4dbb-863e-02286ce5e610
SEQUENCE:0
CLASS:PUBLIC
PRIORITY:5
DTSTAMP:20260421T132522Z
CREATED:20260421T132522Z
DTSTART:20260428T091500Z
DTEND:20260428T101500Z
SUMMARY:Cérémonie de Madeleine MARTIN
LOCATION:2 Rue Adolphe Thiers, 76410, Saint-Aubin-lès-Elbeuf, France
BEGIN:VALARM
TRIGGER:-PT30M
ACTION:DISPLAY
DESCRIPTION:Reminder
END:VALARM
END:VEVENT
END:VCALENDAR
