BEGIN:VCALENDAR
VERSION:2.0
METHOD:PUBLISH
CALSCALE:GREGORIAN
BEGIN:VEVENT
UID:6f14a362-2f21-40ef-bd24-f027aba2d5ce
SEQUENCE:0
CLASS:PUBLIC
PRIORITY:5
DTSTAMP:20260421T134641Z
CREATED:20260421T134641Z
DTSTART:20260423T143000Z
DTEND:20260423T143000Z
SUMMARY:Cérémonie de Monique MACÉ
LOCATION:72150, Le Grand-Lucé, France
BEGIN:VALARM
TRIGGER:-PT30M
ACTION:DISPLAY
DESCRIPTION:Reminder
END:VALARM
END:VEVENT
END:VCALENDAR
