BEGIN:VCALENDAR
VERSION:2.0
METHOD:PUBLISH
CALSCALE:GREGORIAN
BEGIN:VEVENT
UID:bb3e6988-debd-4be5-8c07-4d5eec275e80
SEQUENCE:0
CLASS:PUBLIC
PRIORITY:5
DTSTAMP:20260421T132627Z
CREATED:20260421T132627Z
DTSTART:20260425T143000Z
DTEND:20260425T143000Z
SUMMARY:Cérémonie de Roland DODIN
LOCATION:rue Général de Gaulle, 72190, COULAINES, France
BEGIN:VALARM
TRIGGER:-PT30M
ACTION:DISPLAY
DESCRIPTION:Reminder
END:VALARM
END:VEVENT
END:VCALENDAR
