BEGIN:VCALENDAR
VERSION:2.0
METHOD:PUBLISH
CALSCALE:GREGORIAN
BEGIN:VEVENT
UID:eb013137-bd90-4523-92b1-a57a6167fdbe
SEQUENCE:0
CLASS:PUBLIC
PRIORITY:5
DTSTAMP:20260421T134604Z
CREATED:20260421T134604Z
DTSTART:20260423T100000Z
DTEND:20260423T111500Z
SUMMARY:Cérémonie de Nicole AUDBERT
LOCATION:Rue de Vauchevrier, 37110, Château-Renault, France
BEGIN:VALARM
TRIGGER:-PT30M
ACTION:DISPLAY
DESCRIPTION:Reminder
END:VALARM
END:VEVENT
END:VCALENDAR
