BEGIN:VCALENDAR
VERSION:2.0
METHOD:PUBLISH
CALSCALE:GREGORIAN
BEGIN:VEVENT
UID:192d43a1-eff3-4db0-b5d2-2cee99b2ee55
SEQUENCE:0
CLASS:PUBLIC
PRIORITY:5
DTSTAMP:20260421T132601Z
CREATED:20260421T132601Z
DTSTART:20260429T140000Z
DTEND:20260429T140000Z
SUMMARY:Cérémonie de Alphonse MARTINEZ
LOCATION:72470, Champagné, France
BEGIN:VALARM
TRIGGER:-PT30M
ACTION:DISPLAY
DESCRIPTION:Reminder
END:VALARM
END:VEVENT
END:VCALENDAR
