BEGIN:VCALENDAR
VERSION:2.0
METHOD:PUBLISH
CALSCALE:GREGORIAN
BEGIN:VEVENT
UID:35375056-5dc1-4d88-b77e-be33b8eaa2d6
SEQUENCE:0
CLASS:PUBLIC
PRIORITY:5
DTSTAMP:20260420T141252Z
CREATED:20260420T141252Z
DTSTART:20260424T143000Z
DTEND:20260424T143000Z
SUMMARY:Cérémonie de Damien DE MONTE
LOCATION:37380, Crotelles, France
BEGIN:VALARM
TRIGGER:-PT30M
ACTION:DISPLAY
DESCRIPTION:Reminder
END:VALARM
END:VEVENT
END:VCALENDAR
