BEGIN:VCALENDAR
VERSION:2.0
METHOD:PUBLISH
CALSCALE:GREGORIAN
BEGIN:VEVENT
UID:d46b51c4-ddf4-4d99-98b0-6fcaf3552b25
SEQUENCE:0
CLASS:PUBLIC
PRIORITY:5
DTSTAMP:20260421T152136Z
CREATED:20260421T152136Z
DTSTART:20260429T150000Z
DTEND:20260429T151500Z
SUMMARY:Cérémonie de Marguerite BERTIN
LOCATION:14190, Urville, France
BEGIN:VALARM
TRIGGER:-PT30M
ACTION:DISPLAY
DESCRIPTION:Reminder
END:VALARM
END:VEVENT
END:VCALENDAR
