BEGIN:VCALENDAR
VERSION:2.0
METHOD:PUBLISH
CALSCALE:GREGORIAN
BEGIN:VEVENT
UID:87c9aab1-1b6e-4a88-bce5-ab312918baf1
SEQUENCE:0
CLASS:PUBLIC
PRIORITY:5
DTSTAMP:20260421T121307Z
CREATED:20260421T121307Z
DTSTART:20260423T150000Z
DTEND:20260423T160000Z
SUMMARY:Cérémonie de Rolande BAGLAN
LOCATION:37380, Saint-Laurent-en-Gâtines, France
BEGIN:VALARM
TRIGGER:-PT30M
ACTION:DISPLAY
DESCRIPTION:Reminder
END:VALARM
END:VEVENT
END:VCALENDAR
