BEGIN:VCALENDAR
VERSION:2.0
METHOD:PUBLISH
CALSCALE:GREGORIAN
BEGIN:VEVENT
UID:0a59647d-6e65-4249-98e5-c238addc2072
SEQUENCE:0
CLASS:PUBLIC
PRIORITY:5
DTSTAMP:20260421T180821Z
CREATED:20260421T180821Z
DTSTART:20260427T170000Z
DTEND:20260427T172000Z
SUMMARY:Cérémonie de Hervé ROMAIN
LOCATION:Rue de l’Abbaye d’Ardennes, 14000, Caen, France
BEGIN:VALARM
TRIGGER:-PT30M
ACTION:DISPLAY
DESCRIPTION:Reminder
END:VALARM
END:VEVENT
END:VCALENDAR
