BEGIN:VCALENDAR
VERSION:2.0
METHOD:PUBLISH
CALSCALE:GREGORIAN
BEGIN:VEVENT
UID:7ca7ac30-6cf5-4afc-9bae-14ef44ea46f5
SEQUENCE:0
CLASS:PUBLIC
PRIORITY:5
DTSTAMP:20260421T180902Z
CREATED:20260421T180902Z
DTSTART:20260423T100000Z
DTEND:20260423T100000Z
SUMMARY:Cérémonie de Jean-Michel ISOREZ
LOCATION:86130, Beaumont Saint-Cyr, France
BEGIN:VALARM
TRIGGER:-PT30M
ACTION:DISPLAY
DESCRIPTION:Reminder
END:VALARM
END:VEVENT
END:VCALENDAR
