BEGIN:VCALENDAR
VERSION:2.0
METHOD:PUBLISH
CALSCALE:GREGORIAN
BEGIN:VEVENT
UID:38cc6190-1ba3-4fed-86af-992dde9fe379
SEQUENCE:0
CLASS:PUBLIC
PRIORITY:5
DTSTAMP:20260421T180907Z
CREATED:20260421T180907Z
DTSTART:20260424T103000Z
DTEND:20260424T103000Z
SUMMARY:Cérémonie de Denis CHAMPIGNY
LOCATION:86130, Beaumont Saint-Cyr, France
BEGIN:VALARM
TRIGGER:-PT30M
ACTION:DISPLAY
DESCRIPTION:Reminder
END:VALARM
END:VEVENT
END:VCALENDAR
