BEGIN:VCALENDAR
VERSION:2.0
METHOD:PUBLISH
CALSCALE:GREGORIAN
BEGIN:VEVENT
UID:5f5e6ecc-b29c-4b86-885e-8ed5d216e818
SEQUENCE:0
CLASS:PUBLIC
PRIORITY:5
DTSTAMP:20260421T180902Z
CREATED:20260421T180902Z
DTSTART:20260427T133000Z
DTEND:20260427T133000Z
SUMMARY:Cérémonie de Bernard BRIÈRE
LOCATION:Réage du Coqueret, 61200, Argentan, France
BEGIN:VALARM
TRIGGER:-PT30M
ACTION:DISPLAY
DESCRIPTION:Reminder
END:VALARM
END:VEVENT
END:VCALENDAR
