BEGIN:VCALENDAR
VERSION:2.0
METHOD:PUBLISH
CALSCALE:GREGORIAN
BEGIN:VEVENT
UID:c25d585f-441f-4c71-9639-470be0c8b82c
SEQUENCE:0
CLASS:PUBLIC
PRIORITY:5
DTSTAMP:20260420T181443Z
CREATED:20260420T181443Z
DTSTART:20260430T143000Z
DTEND:20260430T143000Z
SUMMARY:Cérémonie de Thérèse VALLET
LOCATION:76300, Sotteville-lès-Rouen, France
BEGIN:VALARM
TRIGGER:-PT30M
ACTION:DISPLAY
DESCRIPTION:Reminder
END:VALARM
END:VEVENT
END:VCALENDAR
