BEGIN:VCALENDAR
VERSION:2.0
METHOD:PUBLISH
CALSCALE:GREGORIAN
BEGIN:VEVENT
UID:0dc19fb6-ac65-41d4-97b1-87d7bfd13787
SEQUENCE:0
CLASS:PUBLIC
PRIORITY:5
DTSTAMP:20260421T180907Z
CREATED:20260421T180907Z
DTSTART:20260427T163000Z
DTEND:20260427T163000Z
SUMMARY:Cérémonie de Yvette BLANCHARD
LOCATION:37210, Parçay-Meslay, France
BEGIN:VALARM
TRIGGER:-PT30M
ACTION:DISPLAY
DESCRIPTION:Reminder
END:VALARM
END:VEVENT
END:VCALENDAR
