BEGIN:VCALENDAR
VERSION:2.0
METHOD:PUBLISH
CALSCALE:GREGORIAN
BEGIN:VEVENT
UID:dd978273-4ced-47bd-bd85-9b370d091d6c
SEQUENCE:0
CLASS:PUBLIC
PRIORITY:5
DTSTAMP:20260421T180856Z
CREATED:20260421T180856Z
DTSTART:20260427T143000Z
DTEND:20260427T153000Z
SUMMARY:Cérémonie de Christine SAGOT
LOCATION:Rue des Moulins, 53370, Saint-Pierre-des-Nids, France
BEGIN:VALARM
TRIGGER:-PT30M
ACTION:DISPLAY
DESCRIPTION:Reminder
END:VALARM
END:VEVENT
END:VCALENDAR
