BEGIN:VCALENDAR
VERSION:2.0
METHOD:PUBLISH
CALSCALE:GREGORIAN
BEGIN:VEVENT
UID:793762f3-f53d-443e-b024-405ecf5a1f17
SEQUENCE:0
CLASS:PUBLIC
PRIORITY:5
DTSTAMP:20260421T180730Z
CREATED:20260421T180730Z
DTSTART:20260425T110000Z
DTEND:20260425T110000Z
SUMMARY:Cérémonie de Didier BOURGEOIS
LOCATION:Chemin de César, 72230, Ruaudin, France
BEGIN:VALARM
TRIGGER:-PT30M
ACTION:DISPLAY
DESCRIPTION:Reminder
END:VALARM
END:VEVENT
END:VCALENDAR
