BEGIN:VCALENDAR
VERSION:2.0
METHOD:PUBLISH
CALSCALE:GREGORIAN
BEGIN:VEVENT
UID:01417f05-8024-4b95-a6d5-bcec43e43081
SEQUENCE:0
CLASS:PUBLIC
PRIORITY:5
DTSTAMP:20260421T181849Z
CREATED:20260421T181849Z
DTSTART:20260424T100000Z
DTEND:20260424T110000Z
SUMMARY:Cérémonie de Gabriel PICHON
LOCATION:31 Rue d'Amsterdam, 53000, Laval, France
BEGIN:VALARM
TRIGGER:-PT30M
ACTION:DISPLAY
DESCRIPTION:Reminder
END:VALARM
END:VEVENT
END:VCALENDAR
