BEGIN:VCALENDAR
VERSION:2.0
METHOD:PUBLISH
CALSCALE:GREGORIAN
BEGIN:VEVENT
UID:90d49270-392d-4803-92ef-6603400c946a
SEQUENCE:0
CLASS:PUBLIC
PRIORITY:5
DTSTAMP:20260421T121344Z
CREATED:20260421T121344Z
DTSTART:20260429T103000Z
DTEND:20260429T103000Z
SUMMARY:Cérémonie de Michelle DUTERTRE
LOCATION:Rue des Bigarreaux, 72100, Le Mans, France
BEGIN:VALARM
TRIGGER:-PT30M
ACTION:DISPLAY
DESCRIPTION:Reminder
END:VALARM
END:VEVENT
END:VCALENDAR
