BEGIN:VCALENDAR
VERSION:2.0
METHOD:PUBLISH
CALSCALE:GREGORIAN
BEGIN:VEVENT
UID:20420b15-2edc-42b3-9f32-9edc180aabd5
SEQUENCE:0
CLASS:PUBLIC
PRIORITY:5
DTSTAMP:20260422T142239Z
CREATED:20260422T142239Z
DTSTART:20260424T143000Z
DTEND:20260424T153000Z
SUMMARY:Cérémonie de Marie-France RAUSCH
LOCATION:Rue du Presbytère, 14440, Douvres-la-Délivrande, France
BEGIN:VALARM
TRIGGER:-PT30M
ACTION:DISPLAY
DESCRIPTION:Reminder
END:VALARM
END:VEVENT
END:VCALENDAR
