BEGIN:VCALENDAR
VERSION:2.0
METHOD:PUBLISH
CALSCALE:GREGORIAN
BEGIN:VEVENT
UID:834fa7d4-8603-42c6-a6b4-3ebad2f43dc6
SEQUENCE:0
CLASS:PUBLIC
PRIORITY:5
DTSTAMP:20260422T143231Z
CREATED:20260422T143231Z
DTSTART:20260430T110000Z
DTEND:20260430T110000Z
SUMMARY:Cérémonie de Joël COME
LOCATION:Chemin de César, 72230, Ruaudin, France
BEGIN:VALARM
TRIGGER:-PT30M
ACTION:DISPLAY
DESCRIPTION:Reminder
END:VALARM
END:VEVENT
END:VCALENDAR
