BEGIN:VCALENDAR
VERSION:2.0
METHOD:PUBLISH
CALSCALE:GREGORIAN
BEGIN:VEVENT
UID:6d7e899f-b2cd-4cf9-ad79-9fadb0cf381e
SEQUENCE:0
CLASS:PUBLIC
PRIORITY:5
DTSTAMP:20260422T142234Z
CREATED:20260422T142234Z
DTSTART:20260424T100000Z
DTEND:20260424T100000Z
SUMMARY:Cérémonie de Noëlle DE MONTETY
LOCATION:Chemin de l'Église, 14430, Douville-en-Auge, France
BEGIN:VALARM
TRIGGER:-PT30M
ACTION:DISPLAY
DESCRIPTION:Reminder
END:VALARM
END:VEVENT
END:VCALENDAR
