BEGIN:VCALENDAR
VERSION:2.0
METHOD:PUBLISH
CALSCALE:GREGORIAN
BEGIN:VEVENT
UID:7b67657f-8b3d-4dd1-bf6e-362222fc240f
SEQUENCE:0
CLASS:PUBLIC
PRIORITY:5
DTSTAMP:20260422T144006Z
CREATED:20260422T144006Z
DTSTART:20260428T143000Z
DTEND:20260428T160000Z
SUMMARY:Cérémonie de Gilbert SALIN
LOCATION:61200, Argentan, France
BEGIN:VALARM
TRIGGER:-PT30M
ACTION:DISPLAY
DESCRIPTION:Reminder
END:VALARM
END:VEVENT
END:VCALENDAR
