BEGIN:VCALENDAR
VERSION:2.0
METHOD:PUBLISH
CALSCALE:GREGORIAN
BEGIN:VEVENT
UID:ee42d8a0-25ea-4f1f-a429-066ef8d7d0b0
SEQUENCE:0
CLASS:PUBLIC
PRIORITY:5
DTSTAMP:20260422T142154Z
CREATED:20260422T142154Z
DTSTART:20260428T120000Z
DTEND:20260428T123000Z
SUMMARY:Cérémonie de Didier FOUQUET
LOCATION:Rue de l’Abbaye d’Ardennes, 14000, Caen, France
BEGIN:VALARM
TRIGGER:-PT30M
ACTION:DISPLAY
DESCRIPTION:Reminder
END:VALARM
END:VEVENT
END:VCALENDAR
