BEGIN:VCALENDAR
VERSION:2.0
METHOD:PUBLISH
CALSCALE:GREGORIAN
BEGIN:VEVENT
UID:76e18772-e539-429f-9fcb-b73d8ad8a05d
SEQUENCE:0
CLASS:PUBLIC
PRIORITY:5
DTSTAMP:20260422T162258Z
CREATED:20260422T162258Z
DTSTART:20260427T143000Z
DTEND:20260427T143000Z
SUMMARY:Cérémonie de Christophe VEILLON
LOCATION:72210, Louplande, France
BEGIN:VALARM
TRIGGER:-PT30M
ACTION:DISPLAY
DESCRIPTION:Reminder
END:VALARM
END:VEVENT
END:VCALENDAR
