BEGIN:VCALENDAR
VERSION:2.0
METHOD:PUBLISH
CALSCALE:GREGORIAN
BEGIN:VEVENT
UID:e8bcf1b3-ff79-4702-bedf-4c08ff877697
SEQUENCE:0
CLASS:PUBLIC
PRIORITY:5
DTSTAMP:20260422T164119Z
CREATED:20260422T164119Z
DTSTART:20260429T100000Z
DTEND:20260429T100000Z
SUMMARY:Cérémonie de Régine MARTEL
LOCATION:08190, Asfeld, France
BEGIN:VALARM
TRIGGER:-PT30M
ACTION:DISPLAY
DESCRIPTION:Reminder
END:VALARM
END:VEVENT
END:VCALENDAR
