BEGIN:VCALENDAR
VERSION:2.0
METHOD:PUBLISH
CALSCALE:GREGORIAN
BEGIN:VEVENT
UID:085d2146-5d5d-4f6b-a2e5-2933e8b922ef
SEQUENCE:0
CLASS:PUBLIC
PRIORITY:5
DTSTAMP:20260422T172452Z
CREATED:20260422T172452Z
DTSTART:20260429T150000Z
DTEND:20260429T150000Z
SUMMARY:Cérémonie de Andrée CORDELET
LOCATION:61370, Échauffour, France
BEGIN:VALARM
TRIGGER:-PT30M
ACTION:DISPLAY
DESCRIPTION:Reminder
END:VALARM
END:VEVENT
END:VCALENDAR
