BEGIN:VCALENDAR
VERSION:2.0
METHOD:PUBLISH
CALSCALE:GREGORIAN
BEGIN:VEVENT
UID:c8dec1ee-c12c-4569-bec7-9e23b04a0053
SEQUENCE:0
CLASS:PUBLIC
PRIORITY:5
DTSTAMP:20260422T205010Z
CREATED:20260422T205010Z
DTSTART:20260429T180000Z
DTEND:20260429T180000Z
SUMMARY:Cérémonie de Sylvain PASTEAU
LOCATION:Parc d'activités des Hunaudières, 72230, Ruaudin, France
BEGIN:VALARM
TRIGGER:-PT30M
ACTION:DISPLAY
DESCRIPTION:Reminder
END:VALARM
END:VEVENT
END:VCALENDAR
